BEGIN:VCALENDAR
VERSION:2.0
PRODID:-//ExpressionEngine Easy iCalendar plugin//NONSGML v1.1.1//EN
BEGIN:VEVENT
UID:event
LOCATION:Butler Library\, Room 523
DTSTAMP:20210221T33500Z
DTSTART;TZID=America/New_York:20150921T170000
DTEND;TZID=America/New_York:20150921T190000
SUMMARY:Keywords in Sound: A Roundtable Discussion
DESCRIPTION:Editors and contributors will discuss Keywords in Sound\, edi
 ted by David Novak and Matt Sakakeeny (Duke University Press
 \, 2015)\, a collection of twenty entries by leading scholars 
 in the field of sound studies.
END:VEVENT
END:VCALENDAR