BEGIN:VCALENDAR
VERSION:2.0
PRODID:-//ExpressionEngine Easy iCalendar plugin//NONSGML v1.1.1//EN
BEGIN:VEVENT
UID:event
LOCATION:\, Skylight Room\, 9th floor\, CUNY Graduate Center\; and the He
 yman Center Common Room
DTSTAMP:20210221T33200Z
DTSTART;TZID=America/New_York:20151001T163000
DTEND;TZID=America/New_York:20151002T000000
SUMMARY:Legacies of the Slave Past in the Post-Slave Present
DESCRIPTION:Several years ago\, Catherine Hall\, Nick Draper\, and Keith Mc
 Clelland launched a project at University College\, London\, o
 n the “Legacies of British Slave Ownership.” The project
  sought to document the impact of slave ownership on the for
 mation of modern Britain. Phase one involved building a sear
 chable\, publicly accessible\, database containing the identit
 y of all slave-owners in the British Caribbean\, Mauritius\, a
 nd the Cape at the time of slave abolition in 1833.
END:VEVENT
END:VCALENDAR