BEGIN:VCALENDAR
VERSION:2.0
PRODID:-//ExpressionEngine Easy iCalendar plugin//NONSGML v1.1.1//EN
BEGIN:VEVENT
UID:event
LOCATION:International Affairs Building\, Kellogg Center\, Rooms 1501 a
 nd 1512
DTSTAMP:20210221T33300Z
DTSTART;TZID=America/New_York:20151009T90000
DTEND;TZID=America/New_York:20151010T000000
SUMMARY:Theosophy and the Arts: Texts and Contexts of Modern Enchant
 ment
DESCRIPTION:This is the second conference of the international research 
 network Enchanted Modernities: Theosophy\, Modernism and the 
 Arts\, c.1875-1960 funded by the Leverhulme Trust.
END:VEVENT
END:VCALENDAR