BEGIN:VCALENDAR
VERSION:2.0
PRODID:-//ExpressionEngine Easy iCalendar plugin//NONSGML v1.1.1//EN
BEGIN:VEVENT
UID:event
LOCATION:\, Sulzberger Parlor\, Barnard
DTSTAMP:20210221T33700Z
DTSTART;TZID=America/New_York:20151029T190000
DTEND;TZID=America/New_York:
SUMMARY:Women Poets at Barnard: Rosanna Warren\, Meg Tyler\, and Fiona
  Wilson
DESCRIPTION:The Heyman Center for the Humanities and Women Poets at Barn
 ard present an evening with poets Rosanna Warren\, Meg Tyler\,
  and Fiona Wilson. 
END:VEVENT
END:VCALENDAR