BEGIN:VCALENDAR
VERSION:2.0
PRODID:-//ExpressionEngine Easy iCalendar plugin//NONSGML v1.1.1//EN
BEGIN:VEVENT
UID:event
LOCATION:The Heyman Center\, Second Floor Common Room
DTSTAMP:20210221T33600Z
DTSTART;TZID=America/New_York:20151001T180000
DTEND;TZID=America/New_York:
SUMMARY:Anti-Imperial Metropolis: Interwar Paris and the Seeds of Th
 ird World Nationalism
DESCRIPTION:In his new book\, Anti-Imperial Metropolis: Interwar Paris an
 d the Seeds of Third World Nationalism (Cambridge UP\, 2015)\,
  Michael Goebel raises anew the question of why imperial cen
 ters became hatcheries of postcolonial and anti-imperialist 
 elites in the later “Third World.”
END:VEVENT
END:VCALENDAR