BEGIN:VCALENDAR
VERSION:2.0
PRODID:-//ExpressionEngine Easy iCalendar plugin//NONSGML v1.1.1//EN
BEGIN:VEVENT
UID:event
LOCATION:
DTSTAMP:20210221T33500Z
DTSTART;TZID=America/New_York:20151023T90000
DTEND;TZID=America/New_York:20151024T000000
SUMMARY:Accommodations Workshop
DESCRIPTION:This workshop will contribute to a growing counter-commentar
 y that reckons with “outmoded” motifs in the built lands
 capes of East and Central Europe.
END:VEVENT
END:VCALENDAR