BEGIN:VCALENDAR
VERSION:2.0
PRODID:-//ExpressionEngine Easy iCalendar plugin//NONSGML v1.1.1//EN
BEGIN:VEVENT
UID:event
LOCATION:\, Sulzberger Parlor\, Barnard
DTSTAMP:20210221T33900Z
DTSTART;TZID=America/New_York:20151104T190000
DTEND;TZID=America/New_York:
SUMMARY:Women Poets at Barnard: Fanny Howe\, Christina Davis\, and Kat
 ie Peterson
DESCRIPTION:The Heyman Center for the Humanities and Women Poets at Barn
 ard present an evening with Fanny Howe\, Christina Davis\, and
  Katie Peterson.
END:VEVENT
END:VCALENDAR