BEGIN:VCALENDAR
VERSION:2.0
PRODID:-//ExpressionEngine Easy iCalendar plugin//NONSGML v1.1.1//EN
BEGIN:VEVENT
UID:event
LOCATION:The Heyman Center\, Second Floor Common Room
DTSTAMP:20210221T33300Z
DTSTART;TZID=America/New_York:20151105T181500
DTEND;TZID=America/New_York:
SUMMARY:Saul Bellow Centenary Roundtable
DESCRIPTION:The Heyman Center for the Humanities hosts a roundtable disc
 ussion on the centenary of the birth of Saul Bellow. Paneli
 sts will discuss why Bellow's work remains as vital as ever 
 and continues to compel readers\, including college students\;
  his place in post-war American literary history\; and his un
 ique narrative voice that has created imperishable character
 s.
END:VEVENT
END:VCALENDAR