BEGIN:VCALENDAR
VERSION:2.0
PRODID:-//ExpressionEngine Easy iCalendar plugin//NONSGML v1.1.1//EN
BEGIN:VEVENT
UID:event
LOCATION:\, The Teatro at The Italian Academy for Advanced Studies
DTSTAMP:20210221T33100Z
DTSTART;TZID=America/New_York:20151119T181500
DTEND;TZID=America/New_York:
SUMMARY:The Future of the Past: Revival Ireland 1891-1922
DESCRIPTION:Declan Kiberd\, renowned scholar of Irish Literature\, will de
 liver the annual Edward W. Said Memorial Lecture.
END:VEVENT
END:VCALENDAR