BEGIN:VCALENDAR
VERSION:2.0
PRODID:-//ExpressionEngine Easy iCalendar plugin//NONSGML v1.1.1//EN
BEGIN:VEVENT
UID:event
LOCATION:Institute for Research in African American Studies Seminar R
 oom
DTSTAMP:20210221T32600Z
DTSTART;TZID=America/New_York:20150918T121500
DTEND;TZID=America/New_York:
SUMMARY:CRPS Workshop Series: Tommie Shelby on “Richard Wright: Re
 alizing the Promise of the West”
DESCRIPTION:The Center for Race\, Philosophy\, and Social Justice promotes
  normatively inflected social and political thought geared t
 o thinking through the demands of racial justice in the Unit
 ed States in the aftermath of Jim Crow and the election of o
 ur nation’s first Black president. Tommie Shelby\, Caldwel
 l Titcomb Professor of African and African American Studies 
 and of Philosophy at Harvard University\, will lead a worksho
 p titled "Richard Wright: Realizing the Promise of the West
 ."
END:VEVENT
END:VCALENDAR