BEGIN:VCALENDAR
VERSION:2.0
PRODID:-//ExpressionEngine Easy iCalendar plugin//NONSGML v1.1.1//EN
BEGIN:VEVENT
UID:event
LOCATION:The Heyman Center\, Second Floor\, Common Room
DTSTAMP:20210221T32900Z
DTSTART;TZID=America/New_York:20151014T181500
DTEND;TZID=America/New_York:
SUMMARY:Vatted Dreams: Neurophilosophy and the Politics of Phenomena
 l Internalism
DESCRIPTION:The Neuroscience and History Working Group talks foster inte
 rdisciplinary conversation about the promises and challenges
  of contemporary neuroscience.
END:VEVENT
END:VCALENDAR