BEGIN:VCALENDAR
VERSION:2.0
PRODID:-//ExpressionEngine Easy iCalendar plugin//NONSGML v1.1.1//EN
BEGIN:VEVENT
UID:event
LOCATION:Schermerhorn Hall\, 758 Schermerhorn Extension\, Columbia Univ
 ersity
DTSTAMP:20210221T32700Z
DTSTART;TZID=America/New_York:20151016T121500
DTEND;TZID=America/New_York:
SUMMARY:CRPS Workshop Series: Desmond Jagmohan on “Cultivating Civ
 ic Capacity Under Domination”
DESCRIPTION:The Center for Race\, Philosophy\, and Social Justice promotes
  normatively inflected social and political thought geared t
 o thinking through the demands of racial justice in the Unit
 ed States in the aftermath of Jim Crow and the election of o
 ur nation’s first Black president. Desmond Jagmohan\, Pos
 tdoctoral Research Associate in Politics at Princeton Univer
 sity\, will lead this workshop titled "Cultivating Civic Capa
 city Under Domination: Rethinking Booker T. Washington and U
 plift Politics in the Era of Jim Crow"
END:VEVENT
END:VCALENDAR