BEGIN:VCALENDAR
VERSION:2.0
PRODID:-//ExpressionEngine Easy iCalendar plugin//NONSGML v1.1.1//EN
BEGIN:VEVENT
UID:event
LOCATION:The Heyman Center\, Second Floor\, Common Room
DTSTAMP:20210221T33500Z
DTSTART;TZID=America/New_York:20151027T163000
DTEND;TZID=America/New_York:
SUMMARY:Karin Barber\, “Traditions of Exegesis: What Audiences do w
 ith Oral and Written texts in Africa.”
DESCRIPTION:As part of the Program in World Philology\, Karin Barber disc
 usses "Traditions of Exegesis: What Audiences do with Oral a
 nd Written texts in Africa."
END:VEVENT
END:VCALENDAR