BEGIN:VCALENDAR
VERSION:2.0
PRODID:-//ExpressionEngine Easy iCalendar plugin//NONSGML v1.1.1//EN
BEGIN:VEVENT
UID:event
LOCATION:The Heyman Center\, Second Floor\, Common Room
DTSTAMP:20210221T33500Z
DTSTART;TZID=America/New_York:20151106T90000
DTEND;TZID=America/New_York:20151107T000000
SUMMARY:The Other Global University: Against Educational Apartheids:
  Forum on the Past\, Present\, and Future
DESCRIPTION:This forum brings together educators to rethink relationship
 s between institutions of higher education\, their local comm
 unities\, and their global milieu. In response to current\, he
 gemonic trends of globalizing higher education\, we will expl
 ore alternative histories and theories of education\, asking 
 how local and global concerns in fact pertain to all educati
 onal institutions\, and how educational inequalities pertaini
 ng to class\, race\, gender\, and geography might be either exa
 cerbated or redressed through new institutional\, interdiscip
 linary\, and pedagogic strategies.
END:VEVENT
END:VCALENDAR