BEGIN:VCALENDAR
VERSION:2.0
PRODID:-//ExpressionEngine Easy iCalendar plugin//NONSGML v1.1.1//EN
BEGIN:VEVENT
UID:event
LOCATION:The Heyman Center\, Second Floor\, Common Room
DTSTAMP:20210221T33200Z
DTSTART;TZID=America/New_York:20151111T181500
DTEND;TZID=America/New_York:
SUMMARY:Norman Geschwind\, Behavioral Neurology and Left Handedness
DESCRIPTION:Howard Kushner\, Nat C. Robertson Distinguished Professor of 
 Science & Society Emeritus at Emory University\, gives a lect
 ure on "Norman Geschwind\, Behavioral Neurology and Left Hand
 edness."
END:VEVENT
END:VCALENDAR