BEGIN:VCALENDAR
VERSION:2.0
PRODID:-//ExpressionEngine Easy iCalendar plugin//NONSGML v1.1.1//EN
BEGIN:VEVENT
UID:event
LOCATION:Pulitzer Hall (formerly Journalism Hall)\, Room 301
DTSTAMP:20210221T33100Z
DTSTART;TZID=America/New_York:20151021T181500
DTEND;TZID=America/New_York:
SUMMARY:Cornel West and Jeff Stout in Conversation on Secularism and
  Democracy
DESCRIPTION:The Heyman Center for the Humanities presents a discussion o
 n secularism and democracy with Cornel West\, Professor of Ph
 ilosophy and Christian Practice at Union Theological Seminar
 y and Professor Emeritus at Princeton University\, and Jeff S
 tout\, Professor of Religion at Princeton University.
END:VEVENT
END:VCALENDAR