BEGIN:VCALENDAR
VERSION:2.0
PRODID:-//ExpressionEngine Easy iCalendar plugin//NONSGML v1.1.1//EN
BEGIN:VEVENT
UID:event
LOCATION:East Gallery\, Buell Hall (Maison Francaise)
DTSTAMP:20210221T32900Z
DTSTART;TZID=America/New_York:20151116T170000
DTEND;TZID=America/New_York:20151116T184500
SUMMARY:Pierre Rosanvallon and Emmanuelle Saada in Conversation - CA
 NCELLED
DESCRIPTION:This event has been canceled.  In its place\, a vigil will b
 egin at 5:30 pm at the Maison Francaise.\n\nThe Heyman Center
  for the Humanities and the Maison Francaise at Columbia pre
 sent an evening of conversation on French and American polit
 ical thought with Pierre Rosanvallon\, Professor of Modern an
 d Contemporary Political History at the College de France\, a
 nd Emmanuelle Saada\, Associate Professor at Columbia Univers
 ity's Department of French and Romance Philology and Directo
 r of the Center for French and Francophone Studies. 
END:VEVENT
END:VCALENDAR