BEGIN:VCALENDAR
VERSION:2.0
PRODID:-//ExpressionEngine Easy iCalendar plugin//NONSGML v1.1.1//EN
BEGIN:VEVENT
UID:event
LOCATION:Miller Theatre
DTSTAMP:20210221T33800Z
DTSTART;TZID=America/New_York:20151117T200000
DTEND;TZID=America/New_York:
SUMMARY:Home Within
DESCRIPTION:A 60-minute audio-visual performance\, "Home Within" is the n
 ewest project of Syrian composer and clarinetist\, Kinan Azme
 h\, and Syrian-Armenian visual artist\, Kevork Mourad.
END:VEVENT
END:VCALENDAR