BEGIN:VCALENDAR
VERSION:2.0
PRODID:-//ExpressionEngine Easy iCalendar plugin//NONSGML v1.1.1//EN
BEGIN:VEVENT
UID:event
LOCATION:Institute for Research in African American Studies\, Seminar 
 Room
DTSTAMP:20210221T33100Z
DTSTART;TZID=America/New_York:20151120T121500
DTEND;TZID=America/New_York:
SUMMARY:CRPS Workshop Series: Lawrence Blum on Racialization\, Racial
  Identity\, and Race Blindness
DESCRIPTION:The Center for Race\, Philosophy\, and Social Justice promotes
  normatively inflected social and political thought geared t
 o thinking through the demands of racial justice in the Unit
 ed States in the aftermath of Jim Crow and the election of o
 ur nation’s first Black president. Lawrence Blum\, Profess
 or of Philosophy & Distinguished Professor of Liberal Arts &
  Education at University of Massachusetts\, Boston will lead 
 this workshop titled "Racialization\, Racial Identity\, and Ra
 ce Blindness: A Comparison of the U.S.\, South Africa\, and Br
 azil."
END:VEVENT
END:VCALENDAR