BEGIN:VCALENDAR
VERSION:2.0
PRODID:-//ExpressionEngine Easy iCalendar plugin//NONSGML v1.1.1//EN
BEGIN:VEVENT
UID:event
LOCATION:The Heyman Center\, Common Room\, Second Floor
DTSTAMP:20210221T33800Z
DTSTART;TZID=America/New_York:20151020T180000
DTEND;TZID=America/New_York:20151020T200000
SUMMARY:The Metabolic Condition: From Concept to Science\, Medicine\, 
 and Culture
DESCRIPTION:The Metabolic Condition: From Concept to Science\, Medicine\, 
 and Culture will review how the concept of metabolism has de
 veloped from the beginning of the modern era of medicine to 
 the most recent scientific\, clinical\, and social understandi
 ng. Speakers will also discuss the current major challenges 
 in metabolism research and new experimental and clinical bre
 akthroughs in the treatment of metabolic disorders\, includin
 g obesity\, diabetes\, and cancer.
END:VEVENT
END:VCALENDAR