BEGIN:VCALENDAR
VERSION:2.0
PRODID:-//ExpressionEngine Easy iCalendar plugin//NONSGML v1.1.1//EN
BEGIN:VEVENT
UID:event
LOCATION:Buell Hall\, East Gallery
DTSTAMP:20210221T33400Z
DTSTART;TZID=America/New_York:20151123T160000
DTEND;TZID=America/New_York:20151123T180000
SUMMARY:Creative Minds: What Can Neuroscience Offer the Study of Cre
 ativity?
DESCRIPTION:Seminars in Society and Neuroscience and the Heyman Center f
 or the Humanities present a seminar titled "Creative Minds: 
 What Can Neuroscience Offer the Study of Creativity?
END:VEVENT
END:VCALENDAR