BEGIN:VCALENDAR
VERSION:2.0
PRODID:-//ExpressionEngine Easy iCalendar plugin//NONSGML v1.1.1//EN
BEGIN:VEVENT
UID:event
LOCATION:Buell Hall\, Maison Francaise
DTSTAMP:20210221T32600Z
DTSTART;TZID=America/New_York:20151214T160000
DTEND;TZID=America/New_York:20151214T180000
SUMMARY:Difficult Decisions: The Complexities of Choice in the Real 
 World
DESCRIPTION:The Center for Science and Society presents a lecture on "Di
 fficult Decisions" featuring Alessandra Casella\, Columbia Un
 iversity\; L. A. Paul\, University of North Carolina at Chape
 l Hill\; and Michael Plattesanda\, University of Pennsylvania
 .
END:VEVENT
END:VCALENDAR