BEGIN:VCALENDAR
VERSION:2.0
PRODID:-//ExpressionEngine Easy iCalendar plugin//NONSGML v1.1.1//EN
BEGIN:VEVENT
UID:event
LOCATION:The Heyman Center\, Common Room\, Second Floor
DTSTAMP:20210221T33600Z
DTSTART;TZID=America/New_York:20151203T121500
DTEND;TZID=America/New_York:
SUMMARY:Teaching Contemporary Civilization in Prison
DESCRIPTION:Joshua Dubler is Assistant Professor of Religion at the Univ
 ersity of Rochester and served as a post-doctoral fellow wit
 h the Society of Fellows in the Humanities from 2008-2011. J
 oshua earned his PhD in Religion from Princeton University. 
 His dissertation was an ethnographic study of the chapel at 
 Graterford Prison\, which he turned into a book Down in the C
 hapel (FSG\, 2013).
END:VEVENT
END:VCALENDAR