BEGIN:VCALENDAR
VERSION:2.0
PRODID:-//ExpressionEngine Easy iCalendar plugin//NONSGML v1.1.1//EN
BEGIN:VEVENT
UID:event
LOCATION:\, Dodge Hall\, Lifetime Screening Room
DTSTAMP:20210221T33100Z
DTSTART;TZID=America/New_York:20151027T181500
DTEND;TZID=America/New_York:20151027T201500
SUMMARY:Film Screening: In the Birch Grove
DESCRIPTION:The Heyman Center for the Humanities present a provocative r
 esearch film\, In the Birch Grove (2012\, 30mins)\, by Professo
 r Alan Marcus\, Chair in Film and Visual Culture (University 
 of Aberdeen)\, who will give a short introduction and discuss
  the work after the screening.
END:VEVENT
END:VCALENDAR