BEGIN:VCALENDAR
VERSION:2.0
PRODID:-//ExpressionEngine Easy iCalendar plugin//NONSGML v1.1.1//EN
BEGIN:VEVENT
UID:event
LOCATION:The Heyman Center\, Common Room
DTSTAMP:20210221T33900Z
DTSTART;TZID=America/New_York:20151109T163000
DTEND;TZID=America/New_York:20151109T180000
SUMMARY:Intersections\, Interventions\, and the Homoerotics of Orienta
 lism
DESCRIPTION:This talk\, given by Joseph Allen Boone\, Professor of English
  and Comparative Literature at University of Southern Califo
 rnia\, will focus on methodologies for reading across culture
 s\, literatures\, and disciplines. It will draw on western sou
 rces in particluar\, queer theory in its transnational phase\,
  and rising developments in middle eastern or islamicate sex
 uality studies.
END:VEVENT
END:VCALENDAR