BEGIN:VCALENDAR
VERSION:2.0
PRODID:-//ExpressionEngine Easy iCalendar plugin//NONSGML v1.1.1//EN
BEGIN:VEVENT
UID:event
LOCATION:The Heyman Center\, Common Room
DTSTAMP:20210221T33800Z
DTSTART;TZID=America/New_York:20160211T180000
DTEND;TZID=America/New_York:20160211T200000
SUMMARY:Embodied Cognition: Music and Movement
DESCRIPTION:A workshop examining the relationship between music and embo
 diment.
END:VEVENT
END:VCALENDAR