BEGIN:VCALENDAR
VERSION:2.0
PRODID:-//ExpressionEngine Easy iCalendar plugin//NONSGML v1.1.1//EN
BEGIN:VEVENT
UID:event
LOCATION:\, Various locations (see schedule for details)
DTSTAMP:20210221T32700Z
DTSTART;TZID=America/New_York:20160408T200000
DTEND;TZID=America/New_York:20160409T000000
SUMMARY:The Wire—The Conference
DESCRIPTION:Tickets for Actors and Activism and Moving Mountains Panel o
 n sale now: General Public.: $15 in advance/$20 at box offic
 e / Students: $7 in advance/$20 at box office: http://wirec
 onference.brownpapertickets.com/\n\nThis two-day conference co
 nsiders the afterlife and legacies of The Wire and will fea
 ture scholars speaking on related topics as well as a panel 
 comprised of Wire cast members and a performace by the Mov
 ing Mountains Theatre Company\, founded by cast member Jamie 
 Hector.\n\nFull conference schedule here
END:VEVENT
END:VCALENDAR