BEGIN:VCALENDAR
VERSION:2.0
PRODID:-//ExpressionEngine Easy iCalendar plugin//NONSGML v1.1.1//EN
BEGIN:VEVENT
UID:event
LOCATION:Schermerhorn Hall\, 758 Schermerhorn Extension
DTSTAMP:20210221T32900Z
DTSTART;TZID=America/New_York:20160219T121500
DTEND;TZID=America/New_York:
SUMMARY:The Future of Racial Morality After Black Love and Black Rag
 e
DESCRIPTION:Christopher Lebron presents a talk as part of the Center for
  Race\, Philosophy & Social Justice Speaker Series.
END:VEVENT
END:VCALENDAR