BEGIN:VCALENDAR
VERSION:2.0
PRODID:-//ExpressionEngine Easy iCalendar plugin//NONSGML v1.1.1//EN
BEGIN:VEVENT
UID:event
LOCATION:The Heyman Center\, Second Floor Common Room
DTSTAMP:20210221T33600Z
DTSTART;TZID=America/New_York:20160226T170000
DTEND;TZID=America/New_York:
SUMMARY:Sounding Off: Murmurs\, Quotes\, Cries\, and Cackles in Maya Gl
 yphs
DESCRIPTION:Stephen Houston presents the next talk in the World Philolog
 y series: "Sounding Off: Murmurs\, Quotes\, Cries\, and Cackles
  in Maya Glyphs."
END:VEVENT
END:VCALENDAR