BEGIN:VCALENDAR
VERSION:2.0
PRODID:-//ExpressionEngine Easy iCalendar plugin//NONSGML v1.1.1//EN
BEGIN:VEVENT
UID:event
LOCATION:Barnard Hall\, Sulzberger Parlor\, Third Floor
DTSTAMP:20210221T33000Z
DTSTART;TZID=America/New_York:20160307T181500
DTEND;TZID=America/New_York:
SUMMARY:Political Fiction\, Ancient and Modern: From David’s Court 
 to Fabrice’s Charterhouse
DESCRIPTION:Robert Alter presents the next installment of the Lionel Tri
 lling Seminar.  The David story and Stendhal's Charterhouse
  of Parma\, the first narrative very early and the other rela
 tively late in the Western literary tradition\, are deeply in
 structive instances of how the vehicle of fiction can provid
 e insights into the realm of politics.
END:VEVENT
END:VCALENDAR