BEGIN:VCALENDAR
VERSION:2.0
PRODID:-//ExpressionEngine Easy iCalendar plugin//NONSGML v1.1.1//EN
BEGIN:VEVENT
UID:event
LOCATION:\, 622 Dodge Hall
DTSTAMP:20210221T33700Z
DTSTART;TZID=America/New_York:20160325T121500
DTEND;TZID=America/New_York:20160325T140000
SUMMARY:Is the “Post-” in Post-Identity the same as the “Post-
 ” in Post-Genre?: Race & Pop Music Aesthetics
DESCRIPTION:Robin James delivers a talk as part of the Center for Race\,
  Philosophy & Social Justice Speaker Series. 
END:VEVENT
END:VCALENDAR