BEGIN:VCALENDAR
VERSION:2.0
PRODID:-//ExpressionEngine Easy iCalendar plugin//NONSGML v1.1.1//EN
BEGIN:VEVENT
UID:event
LOCATION:Barnard Hall\, Sulzberger Parlor\, Third Floor
DTSTAMP:20210221T33100Z
DTSTART;TZID=America/New_York:20160330T190000
DTEND;TZID=America/New_York:20160330T210000
SUMMARY:Poetry Reading by Marilyn Hacker and Deema Shehabi
DESCRIPTION:Marilyn Hacker and Deema Shehabi read from their poetry as p
 art of the Barnard Women Poets Series.
END:VEVENT
END:VCALENDAR