BEGIN:VCALENDAR
VERSION:2.0
PRODID:-//ExpressionEngine Easy iCalendar plugin//NONSGML v1.1.1//EN
BEGIN:VEVENT
UID:event
LOCATION:Schermerhorn Hall\, 758 Schermerhorn Extension
DTSTAMP:20210221T33600Z
DTSTART;TZID=America/New_York:20160415T121500
DTEND;TZID=America/New_York:
SUMMARY:Writing on Du Bois: A Work in Progress
DESCRIPTION:University Professor Gayatri Sprivak delivers a talk as part
  of the Center for Race\, Philosophy and Social Justice Speak
 er Series.
END:VEVENT
END:VCALENDAR