BEGIN:VCALENDAR
VERSION:2.0
PRODID:-//ExpressionEngine Easy iCalendar plugin//NONSGML v1.1.1//EN
BEGIN:VEVENT
UID:event
LOCATION:The Heyman Center\, Second Floor Common Room
DTSTAMP:20210221T33400Z
DTSTART;TZID=America/New_York:20160418T170000
DTEND;TZID=America/New_York:20160418T190000
SUMMARY:Christianity and Philology: Blood Wedding?
DESCRIPTION:As part of the Program in World Philology\, Anthony Grafton p
 resents "Christianity and Philology: Blood Wedding?"
END:VEVENT
END:VCALENDAR