BEGIN:VCALENDAR
VERSION:2.0
PRODID:-//ExpressionEngine Easy iCalendar plugin//NONSGML v1.1.1//EN
BEGIN:VEVENT
UID:event
LOCATION:Buell Hall (Maison Française)\, East Gallery\, Columbia Unive
 rsity
DTSTAMP:20210221T33300Z
DTSTART;TZID=America/New_York:20151023T90000
DTEND;TZID=America/New_York:20151023T170000
SUMMARY:Staging Africans: Race and Representation in Early Modern Eu
 ropean Theaters
DESCRIPTION:This multidisciplinary conference will bring together specia
 lists of early modern cultures to investigate representation
 s of race in the theatrical cultures of early modern Europe.
END:VEVENT
END:VCALENDAR