BEGIN:VCALENDAR
VERSION:2.0
PRODID:-//ExpressionEngine Easy iCalendar plugin//NONSGML v1.1.1//EN
BEGIN:VEVENT
UID:event
LOCATION:Pulitzer Hall (formerly Journalism Hall)\, World Room\, Pulitz
 er Hall\, Columbia Journalism School
DTSTAMP:20210221T32700Z
DTSTART;TZID=America/New_York:20151111T180000
DTEND;TZID=America/New_York:
SUMMARY:Race and New Media
DESCRIPTION:"Race and New Media" is a panel discussion of identity and n
 ew digital publishing formats. It features academics (Minh-H
 a T. Pham of Pratt University and Susan E. McGregor of Colum
 bia) and editors of online magazines (Lisa Lucas of Guernica
  and Ayesha Siddiqi of the New Inquiry). The panelists will 
 be speaking about their own experience building careers onli
 ne as well as their sense of the way race works in the new m
 edia landscape.
END:VEVENT
END:VCALENDAR