BEGIN:VCALENDAR
VERSION:2.0
PRODID:-//ExpressionEngine Easy iCalendar plugin//NONSGML v1.1.1//EN
BEGIN:VEVENT
UID:event
LOCATION:Columbia Law School\, William and June Warren Hall\, Room L-10
 7
DTSTAMP:20210221T33500Z
DTSTART;TZID=America/New_York:20151104T180000
DTEND;TZID=America/New_York:20151104T200000
SUMMARY:After Charlie Hebdo: French laïcité and Islam: Can the Rep
 ublican Model hold?
DESCRIPTION:Panelists discuss the social integration of Muslims in conte
 mporary France and the consequences of the current debates o
 n secularism (laïcité) and the “Republican model” for 
 islamophobia.
END:VEVENT
END:VCALENDAR