BEGIN:VCALENDAR
VERSION:2.0
PRODID:-//ExpressionEngine Easy iCalendar plugin//NONSGML v1.1.1//EN
BEGIN:VEVENT
UID:event
LOCATION:Butler Library\, Room 523
DTSTAMP:20210221T33800Z
DTSTART;TZID=America/New_York:20151207T180000
DTEND;TZID=America/New_York:
SUMMARY:An Evening with Jules Feiffer
DESCRIPTION:Comics@Columbia and the Institute for Israel and Jewish Stud
 ies present An Evening with Jules Feiffer\, award-winning car
 toonist and author. The event will be moderated by Daniel Fi
 ngeroth\, comic book writer and editor.
END:VEVENT
END:VCALENDAR