BEGIN:VCALENDAR
VERSION:2.0
PRODID:-//ExpressionEngine Easy iCalendar plugin//NONSGML v1.1.1//EN
BEGIN:VEVENT
UID:event
LOCATION:The Heyman Center\, Common Room\, Second Floor
DTSTAMP:20210221T32800Z
DTSTART;TZID=America/New_York:20151204T90000
DTEND;TZID=America/New_York:20151206T000000
SUMMARY:The Confined Arts: Art Exhibition and Conference
DESCRIPTION:This 3rd edition of The Confined Arts will be a 40-day art e
 xhibition launched at an opening weekend consisting of art\, 
 poetry\, motivational speaking\, panel discussions\, a promotio
 nal screening\, hands-on workshops\, and more.
END:VEVENT
END:VCALENDAR