BEGIN:VCALENDAR
VERSION:2.0
PRODID:-//ExpressionEngine Easy iCalendar plugin//NONSGML v1.1.1//EN
BEGIN:VEVENT
UID:event
LOCATION:The Heyman Center\, Second Floor Common Room
DTSTAMP:20210221T32800Z
DTSTART;TZID=America/New_York:20151120T123000
DTEND;TZID=America/New_York:20151120T140000
SUMMARY:Europe 1945 – 2015 from “Displaced Persons” to “Asyl
 um Seekers”
DESCRIPTION:Ian Buruma\, Paul W. Williams Professor of Human Rights and J
 ournalism\, Bard College\, Abram De Swaan\, Queen Wilhelmina Vi
 siting Professor\, Columbia University\; Emeritus Distinguishe
 d Research Professor for Social Science\, University of Amste
 rdam\, and Adam Tooze\, Director\, European Institute\; Kathryn 
 and Shelby Cullom Professor of History\, Columbia University\,
  discuss the refugee crisis in a historic perspective.
END:VEVENT
END:VCALENDAR