BEGIN:VCALENDAR
VERSION:2.0
PRODID:-//ExpressionEngine Easy iCalendar plugin//NONSGML v1.1.1//EN
BEGIN:VEVENT
UID:event
LOCATION:The Schapiro Center\, Davis Auditorium
DTSTAMP:20210221T32800Z
DTSTART;TZID=America/New_York:20151209T181500
DTEND;TZID=America/New_York:
SUMMARY:Justice Poetry featuring the BreakBeat Poets
DESCRIPTION:An evening of justice poetry featuring the editors and contr
 ibutor of The BreakBeat Poets: New American Poetry in the Ag
 e of Hip Hop. Poets read from their new and published works 
 related to issues of justice and discuss the events and expe
 riences that inspired them. Poet and activist Messiah Ramkis
 soon will open the event with a poem dedicated to the memory
  of Kalief Browder\, and Columbia Adjuct Professor Morgan Par
 ker with close the evening with a poetry selection. During t
 he discussion period\, the poets will be joined in conversati
 on with the widely acclaimed rapper Pharoahe Monch.
END:VEVENT
END:VCALENDAR