BEGIN:VCALENDAR
VERSION:2.0
PRODID:-//ExpressionEngine Easy iCalendar plugin//NONSGML v1.1.1//EN
BEGIN:VEVENT
UID:event
LOCATION:Symposium: Jerome Greene Annex | Concert: Italian Academy
DTSTAMP:20210221T32700Z
DTSTART;TZID=America/New_York:20151211T90000
DTEND;TZID=America/New_York:20151212T000000
SUMMARY:Women\, Music\, Power
DESCRIPTION:Women\, Music\, Power celebrates the work of Suzanne G. Cusick
  through a two-day symposium\; a concert of new music\; and th
 e publication of a Festschrift volume in Professor Cusick’
 s honor that will appear as volume 19 (2015) of Women and Mu
 sic: A Journal of Gender and Culture\, guest-edited by Emily 
 Wilbourne.\n\nClick here for full details and to register.
END:VEVENT
END:VCALENDAR