BEGIN:VCALENDAR
VERSION:2.0
PRODID:-//ExpressionEngine Easy iCalendar plugin//NONSGML v1.1.1//EN
BEGIN:VEVENT
UID:event
LOCATION:East Gallery\, Buell Hall\, Maison Francaise
DTSTAMP:20210221T33000Z
DTSTART;TZID=America/New_York:20151208T180000
DTEND;TZID=America/New_York:
SUMMARY:Identity and Universality: A Lecture in Light of Contemporar
 y Tragic Events in Paris and Elsewhere
DESCRIPTION:Philosopher\, playwright\, novelist and political activist Ala
 in Badiou will speak on "Identity and Universality: A Lectur
 e in Light of Contemporary Tragic Events in Paris and Elsewh
 ere"
END:VEVENT
END:VCALENDAR