BEGIN:VCALENDAR
VERSION:2.0
PRODID:-//ExpressionEngine Easy iCalendar plugin//NONSGML v1.1.1//EN
BEGIN:VEVENT
UID:event
LOCATION:Jerome Greene Hall (Law School)\, Room 101 (entrance on 116th
  Street between Amsterdam Avenue and Morningside Drive)
DTSTAMP:20210221T33000Z
DTSTART;TZID=America/New_York:20151214T180000
DTEND;TZID=America/New_York:
SUMMARY:Radical Grace: The Role of Art in Response to Present Tragic
  Circumstances
DESCRIPTION:Philosopher\, playwright\, novelist and political activist Ala
 in Badiou will speak on "Radical Grace."
END:VEVENT
END:VCALENDAR