BEGIN:VCALENDAR
VERSION:2.0
PRODID:-//ExpressionEngine Easy iCalendar plugin//NONSGML v1.1.1//EN
BEGIN:VEVENT
UID:event
LOCATION:The Heyman Center\, Common Room
DTSTAMP:20210221T33400Z
DTSTART;TZID=America/New_York:20151210T121500
DTEND;TZID=America/New_York:
SUMMARY:Justice-in-Education Initiative Workshop: Teaching in Prison
DESCRIPTION:This teaching workshop brings together faculty\, graduate stu
 dents\, administrators and community members interested in te
 aching in prison and in prison education programs. Speakers 
 discuss the classes and programs they lead and share their e
 xpereinces engaging in prison education. A question and answ
 er period will follow their presentations.
END:VEVENT
END:VCALENDAR