BEGIN:VCALENDAR
VERSION:2.0
PRODID:-//ExpressionEngine Easy iCalendar plugin//NONSGML v1.1.1//EN
BEGIN:VEVENT
UID:event
LOCATION:\, Various Locations
DTSTAMP:20210221T33400Z
DTSTART;TZID=America/New_York:20160204T193000
DTEND;TZID=America/New_York:20160206T000000
SUMMARY:Esther Eng and Other Challenges to World Feminism
DESCRIPTION:A celebration of director\, producer\, and distributor Esther 
 Eng’s legacy and the current state of world feminism throu
 gh keynote talks\, panels\, screenings\, and roundtable discuss
 ions.
END:VEVENT
END:VCALENDAR