BEGIN:VCALENDAR
VERSION:2.0
PRODID:-//ExpressionEngine Easy iCalendar plugin//NONSGML v1.1.1//EN
BEGIN:VEVENT
UID:event
LOCATION:The Teatro\, Italian Academy
DTSTAMP:20210221T33300Z
DTSTART;TZID=America/New_York:20160126T140000
DTEND;TZID=America/New_York:
SUMMARY:Jordi Savall - Building Bridges: East and West\, Old World an
 d New - CANCELLED
DESCRIPTION:Due to travel complications related to the recent storm\, thi
 s event is canceled. Jordi Savall\, one of the foremost perf
 ormers of early music in the world today\, speaks about early
  music as an element that builds bridges of understanding be
 tween the Old and the New World.
END:VEVENT
END:VCALENDAR