BEGIN:VCALENDAR
VERSION:2.0
PRODID:-//ExpressionEngine Easy iCalendar plugin//NONSGML v1.1.1//EN
BEGIN:VEVENT
UID:event
LOCATION:The Heyman Center\, Second Floor Common Room
DTSTAMP:20210221T33800Z
DTSTART;TZID=America/New_York:20160222T181500
DTEND;TZID=America/New_York:
SUMMARY:Material Encounters: Surface Tension\, Screen Space
DESCRIPTION:What is the place of materiality in our visual age of rapidl
 y changing materials and media? How is it fashioned in the a
 rts or manifested in virtual forms?  Giuliana Bruno discuss
 es these elements in her talk based on the her latest resear
 ch and book\, Surface: Matters of Aesthetics\, Materiality\, an
 d Media (University of Chicago Press\, 2014).
END:VEVENT
END:VCALENDAR