BEGIN:VCALENDAR
VERSION:2.0
PRODID:-//ExpressionEngine Easy iCalendar plugin//NONSGML v1.1.1//EN
BEGIN:VEVENT
UID:event
LOCATION:The Heyman Center\, Second Floor Common Room
DTSTAMP:20210221T33300Z
DTSTART;TZID=America/New_York:20160329T91500
DTEND;TZID=America/New_York:20160329T170000
SUMMARY:Mobility and Confinement: An Interdisciplinary Conference on
  Incarceration in America
DESCRIPTION:Presenters at this conference come from various academic dis
 ciplines\, including History\, Sociology\, and Law\, under the s
 hared goal of provoking an interdisciplinary discussion of t
 he complex issues of incarceration\, criminal justice\, and hu
 man rights.  Click here for more details and a full schedul
 e.
END:VEVENT
END:VCALENDAR