BEGIN:VCALENDAR
VERSION:2.0
PRODID:-//ExpressionEngine Easy iCalendar plugin//NONSGML v1.1.1//EN
BEGIN:VEVENT
UID:event
LOCATION:The Heyman Center\, Second Floor Common Room
DTSTAMP:20210221T33200Z
DTSTART;TZID=America/New_York:20160513T90000
DTEND;TZID=America/New_York:
SUMMARY:Art and the Monetary
DESCRIPTION:From Manet’s single asparagus painted for a 200-franc over
 payment to Duchamp’s Teeth's Loan & Trust check drawn for 
 his dentist\, the potential equivalence of art and money has 
 been postulated as both generative and problematic. This one
 -day symposium considers intersections of the artistic and m
 onetary worlds from the eighteenth century to the present\, e
 xamining the mutual concern for consumption\, valuation\, circ
 ulation\, materiality\, authenticity\, and imitation that emerg
 ed from both artistic and economic spheres.
END:VEVENT
END:VCALENDAR